BEGIN:VCALENDAR
VERSION:2.0
PRODID:icalendar-ruby
CALSCALE:GREGORIAN
METHOD:PUBLISH
BEGIN:VEVENT
DTSTAMP:20260421T192828Z
UID:3-729278@faithbiblejackson.org
DTSTART:20261101T150000Z
DTEND:20261101T161500Z
CLASS:PUBLIC
CREATED:20260421T151111
DESCRIPTION:Come join us for worship on Sundays at 10AM Come as you are! We
  look forward to meeting you!
LAST-MODIFIED:20260421T151111
LOCATION:Faith Bible Church (341 East Veterans Hwy\, Jackson\, NJ 08527)
SUMMARY:Sunday Worship
URL;VALUE=URI:https://www.faithbiblejackson.org/events/sunday-worship--3/20
 26-11-01
ATTACH;FILENAME=Front-Building_02.jpg;FMTTYPE=image/jpeg:https://dq5pwpg1q8
 ru0.cloudfront.net/2022/03/28/12/12/30/f11c1b48-f3eb-4e0b-82f3-bc62c8237f2
 a/Front-Building_02.jpg
END:VEVENT
END:VCALENDAR
